BEGIN:VCALENDAR
VERSION:2.0
PRODID:-// - ECPv6.15.20//NONSGML v1.0//EN
CALSCALE:GREGORIAN
METHOD:PUBLISH
X-ORIGINAL-URL:https://sparringpartner4u.com
X-WR-CALDESC:Veranstaltungen für 
REFRESH-INTERVAL;VALUE=DURATION:PT1H
X-Robots-Tag:noindex
X-PUBLISHED-TTL:PT1H
BEGIN:VTIMEZONE
TZID:UTC
BEGIN:STANDARD
TZOFFSETFROM:+0000
TZOFFSETTO:+0000
TZNAME:UTC
DTSTART:20250101T000000
END:STANDARD
END:VTIMEZONE
BEGIN:VEVENT
DTSTART;TZID=UTC:20261024T070000
DTEND;TZID=UTC:20261024T180000
DTSTAMP:20260422T094415
CREATED:20260128T173004Z
LAST-MODIFIED:20260128T174653Z
UID:8644-1792825200-1792864800@sparringpartner4u.com
SUMMARY:EUROPEAN OPEN 2026 Dortmund – Größte Kampfsport-EM Europas
DESCRIPTION:EUROPEA OPEN 2026 – EUROPAS GRÖSSTE KAMPFSPORT-EUROPAMEISTERSCHAFT IN DORTMUND\n  \nSPARRINGPARTNERFORYOU e.V. und die WKU veranstalten gemeinsam mit der Stadt Dortmund ein internationales Kampfsport-Großevent auf höchstem europäischem Niveau.\nAustragungsort ist die Helmut-Körnig-Halle\, die größte Sporthalle Dortmunds.\nAuf bis zu 15 Kampfflächen wird parallel gekämpft.\nInternationale Elitekämpfer\, Nachwuchsathleten\, Inklusions- und Parasportler treffen hier auf Teams aus ganz Europa.\nTeilnahme offen für alle Leistungsklassen\, alle Altersgruppen\, alle Parasportler und alle Verbände.\n  \nFamilien\, Fans\, Teams und Zuschauer sind herzlich eingeladen\, dieses europäische Spitzenevent live mitzuerleben.\n  \nSave the Date: 24. Oktober 2026\n  \nDortmund wird zur europäischen Hauptstadt des Kampfsports.\n  \nHINWEIS:Anmeldung unter www.smoothcomp.com\nInklusionsklassen und Parasportler melden sich direkt an unterinfo@sparringpartnerforyou.de\n  \nAusschreibung folgt
URL:https://sparringpartner4u.com/events/european-open-2026-dortmund-groesste-kampfsport-em-europas/
LOCATION:Helmut Körnig Halle\, Strobelallee 40\, 44139 Dortmund\, Strobelallee 40\, Dortmund\, NRW\, 44139\, Germany
CATEGORIES:Fight Events
ATTACH;FMTTYPE=image/png:https://sparringpartner4u.com/wp-content/uploads/2026/01/European-Open_Instagram-Beitrag.png
ORGANIZER;CN="SPARRINGPARTNERFORYOU":MAILTO:event@sparringpartner4u.com
END:VEVENT
END:VCALENDAR